BEGIN:VCALENDAR
VERSION:2.0
PRODID:-//German Gun Collectors Association - ECPv6.15.20//NONSGML v1.0//EN
CALSCALE:GREGORIAN
METHOD:PUBLISH
X-WR-CALNAME:German Gun Collectors Association
X-ORIGINAL-URL:https://germanguncollectors.com
X-WR-CALDESC:Events for German Gun Collectors Association
REFRESH-INTERVAL;VALUE=DURATION:PT1H
X-Robots-Tag:noindex
X-PUBLISHED-TTL:PT1H
BEGIN:VTIMEZONE
TZID:UTC
BEGIN:STANDARD
TZOFFSETFROM:+0000
TZOFFSETTO:+0000
TZNAME:UTC
DTSTART:20250101T000000
END:STANDARD
END:VTIMEZONE
BEGIN:VEVENT
DTSTART;VALUE=DATE:20260123
DTEND;VALUE=DATE:20260125
DTSTAMP:20260423T160251
CREATED:20251215T145319Z
LAST-MODIFIED:20251215T145319Z
UID:1380218-1769126400-1769299199@germanguncollectors.com
SUMMARY:2026 Las Vegas Antique Arms Show - Exhibitor Info
DESCRIPTION:Colts ∙ Winchesters ∙ Fine Sporting Arms ∙ Militaria ∙ Edged Weapons ∙ Historical Arms ∙ Collector Communities ∙ Custom Engravers ∙ Cowboy & Western ∙ Native American ∙ Samurai Swords \nLong known for discerning collectors and enthusiasts\, the Las Vegas Antique Arms Show and Old West Events offer a show experience unparalleled in the United States. With over 1\,300 tables featuring items from the finest dealers and craftsmen in the world. \nThree Shows Under One Roof\nThe Las Vegas Antique Arms Show is held in conjunction with The Old West & Native American Art Show & Auction as well as the Japanese Samurai Sword Show. Admission for these shows are all included in one price. Shop one big show that brings together the very best dealers from antique firearms\, militaria\, cowboy and western relics\, and Samurai swords. \nMORE INFO
URL:https://germanguncollectors.com/event/2026-las-vegas-antique-arms-show-exhibitor-info/
LOCATION:Westgate Resort & Casino\, 3000 Paradise Rd\, Las Vegas\, NV\, 89109\, United States
END:VEVENT
END:VCALENDAR